BEGIN:VCALENDAR
VERSION:2.0
PRODID:-//InvisionCommunity Events 4.7.24//EN
METHOD:PUBLISH
CALSCALE:GREGORIAN
REFRESH-INTERVAL:PT15M
X-PUBLISHED-TTL:PT15M
X-WR-CALNAME:Event Calendar
NAME:Event Calendar
BEGIN:VTIMEZONE
TZID:Europe/London
TZURL:http://tzurl.org/zoneinfo/Europe/London
X-LIC-LOCATION:Europe/London
BEGIN:DAYLIGHT
TZOFFSETFROM:+0000
TZOFFSETTO:+0100
TZNAME:BST
DTSTART:20210328T020000Z
RRULE:FREQ=YEARLY;BYMONTH=3;BYDAY=-1SU
END:DAYLIGHT
BEGIN:STANDARD
TZOFFSETFROM:+0100
TZOFFSETTO:+0000
TZNAME:GMT
DTSTART:20211031T020000Z
RRULE:FREQ=YEARLY;BYMONTH=10;BYDAY=-1SU
END:STANDARD
END:VTIMEZONE
BEGIN:VTIMEZONE
TZID:Europe/London
TZURL:http://tzurl.org/zoneinfo/Europe/London
X-LIC-LOCATION:Europe/London
BEGIN:DAYLIGHT
TZOFFSETFROM:+0000
TZOFFSETTO:+0100
TZNAME:BST
DTSTART:20200329T020000Z
RRULE:FREQ=YEARLY;BYMONTH=3;BYDAY=-1SU
END:DAYLIGHT
BEGIN:STANDARD
TZOFFSETFROM:+0100
TZOFFSETTO:+0000
TZNAME:GMT
DTSTART:20201025T020000Z
RRULE:FREQ=YEARLY;BYMONTH=10;BYDAY=-1SU
END:STANDARD
END:VTIMEZONE
BEGIN:VEVENT
SUMMARY:Beach Birthday Bash
DTSTAMP:20210519T233454Z
SEQUENCE:0
UID:326-12-9c64beb017c3f22cb518d1e4eb049ee2@badlandsrp.com
ORGANIZER;CN="Shy":noreply@badlandsrp.com
DESCRIPTION:\n	├é┬á ├é┬á ├é
	┬á ├é┬á ├é┬á ├é
	┬á ├é┬á ├é┬á ├é
	┬á ├é┬á ├é┬á ├é
	┬á ├é┬á ├é┬á ├é
	┬á ├é┬á ├é┬á ├é
	┬á ├é┬á ├é┬á ├é
	┬á ├é┬á ├é┬á ├é
	┬á ├é┬á ├é┬á ├é
	┬á ├é┬á ├é┬á ├é
	┬á ├é┬á ├é┬á ├é┬á ├é┬á
	 ├é┬á ├é┬á ├é┬á ├é┬á ├é┬á├é┬á├é┬
	á\n
DTSTART:20210525T010000Z
END:VEVENT
BEGIN:VEVENT
SUMMARY:Diamond Casino Heist
DTSTAMP:20210417T064951Z
SEQUENCE:0
UID:321-12-9c64beb017c3f22cb518d1e4eb049ee2@badlandsrp.com
ORGANIZER;CN="Shy":noreply@badlandsrp.com
DESCRIPTION:\n	├é┬á ├é┬á ├é
	┬á ├é┬á ├é┬á ├é
	┬á ├é┬á ├é┬á ├é
	┬á ├é┬á ├é┬á ├é
	┬á ├é┬á ├é┬á ├é
	┬á ├é┬á ├é┬á ├é┬á ├é┬á ├é┬á ├é┬á 
	├é┬á ├é┬á ├é┬á ├é┬á
DTSTART;VALUE=DATE:20210418
END:VEVENT
BEGIN:VEVENT
SUMMARY:Luxury Cars | Car Meet Up
DTSTAMP:20201121T193531Z
SEQUENCE:0
UID:300-12-9c64beb017c3f22cb518d1e4eb049ee2@badlandsrp.com
ORGANIZER;CN="George Cahill":noreply@badlandsrp.com
DESCRIPTION:\n	Car Meet Up [Luxury Cars]\n\n\n	Saturday\, Nov. 21st @ 9p
	m EST Across From Paleto Bay @ Gas Station 10/24!\n
DTSTART:20201122T020000Z
END:VEVENT
BEGIN:VEVENT
SUMMARY:Big Hawk's Block Party!
DTSTAMP:20201118T203022Z
SEQUENCE:0
UID:299-12-9c64beb017c3f22cb518d1e4eb049ee2@badlandsrp.com
ORGANIZER;CN="George Cahill":noreply@badlandsrp.com
DESCRIPTION:\n\n	https://imgur.com/7mxhxTg\n\n\n\n	├é┬á\n\n\n\n	Ti
	me &amp\; Date: 7pm EST\, 20th├é┬áFriday.├é┬á\n\n\n\n	Place: B
	ig Hawk Taxi Co\, and block surrounding.\n\n\n\n	To celebrate the grand op
	ening of big hawks taxi company.\n\n\n\n	Drink and live music provided on 
	site.\n\n\n\n	├é┬á\n\n\n\n	├é┬á\n\n
DTSTART:20201121T000000Z
END:VEVENT
BEGIN:VEVENT
SUMMARY:Pumpkin Collection Event
DTSTAMP:20201023T181715Z
SEQUENCE:0
UID:296-12-9c64beb017c3f22cb518d1e4eb049ee2@badlandsrp.com
ORGANIZER;CN="Missladee":noreply@badlandsrp.com
DESCRIPTION:\n	
DTSTART:20201023T190000Z
DTEND:20201101T050000Z
END:VEVENT
BEGIN:VEVENT
SUMMARY:Halloween Horror Mystery Event
DTSTAMP:20201002T225030Z
SEQUENCE:0
UID:292-12-9c64beb017c3f22cb518d1e4eb049ee2@badlandsrp.com
ORGANIZER;CN="Missladee":noreply@badlandsrp.com
DESCRIPTION:\n\n	\n\n\n	\n		\n	\n\n\n\n	├é┬á\n\n
DTSTART:20201024T020000Z
END:VEVENT
BEGIN:VEVENT
SUMMARY:Car Meet
DTSTAMP:20200819T180833Z
SEQUENCE:0
UID:286-12-9c64beb017c3f22cb518d1e4eb049ee2@badlandsrp.com
ORGANIZER;CN="Shy":noreply@badlandsrp.com
DESCRIPTION:\n	├é┬á ├é┬á ├é
	┬á ├é┬á ├é┬á ├é
	┬á ├é┬á ├é┬á ├é
	┬á ├é┬á ├é┬á ├é
	┬á ├é┬á ├é┬á ├é
	┬á ├é┬á ├é┬á ├é
	┬á ├é┬á ├é┬á ├é
	┬á ├é┬á ├é┬á ├é
	┬á ├é┬á ├é┬á ├é
	┬á ├é┬á ├é┬á ├é
	┬á ├é┬á ├é┬á ├é
	┬á ├é┬á ├é┬á ├é
	┬á ├é┬á ├é┬á ├é┬á ├é┬á 
	├é┬á ├é┬á ├é┬á ├é┬á ├é┬á ├é┬á├é┬
	á
DTSTART:20200821T020000Z
END:VEVENT
BEGIN:VEVENT
SUMMARY:2020 THIRD ANNUAL DATE AUCTION
DTSTAMP:20200818T231817Z
SEQUENCE:0
UID:285-12-9c64beb017c3f22cb518d1e4eb049ee2@badlandsrp.com
ORGANIZER;CN="Missladee":noreply@badlandsrp.com
DESCRIPTION:\n\n	\n\n\n	WANT TO BE AUCTIONED OFF?\n\n\n\n	CAN'T GET A DA
	TE?\n\n\n\n	HAVE A CRUSH AND CAN'T FIND THE COURAGE TO ASK?\n\n\n\n	NOW YO
	U CAN!├é┬á\n\n\n\n	JOIN US ON THE 4TH OF SEPTEMBER AND BE READY TO P
	LACE YOUR BIDS OR PARTICIPATE AND GET AUCTIONED OFF.\n\n\n\n	A LIST OF CON
	TESTANTS WILL BE PLACED DAYS BEFORE THE EVENT SO SIGN UP NOW AND LETS HAVE
	 SOME FUN!\n\n\n\n	YOU CAN ALSO CONTACT VICTORIA FOR MORE INFO OR SO SHE C
	AN PLACE YOU ON THE LIST.├é┬á\n\n\n\n	CONTACT VICTORIA #
	├é┬á626-2129├é┬á\n\n\n\n	SIGN UP HERE TO BE AUCTIONED OFF!\n\n
DTSTART:20200905T013000Z
END:VEVENT
BEGIN:VEVENT
SUMMARY:Fight Club
DTSTAMP:20200809T182314Z
SEQUENCE:0
UID:282-12-9c64beb017c3f22cb518d1e4eb049ee2@badlandsrp.com
ORGANIZER;CN="Shy":noreply@badlandsrp.com
DESCRIPTION:\n	├é┬á ├é┬á ├é
	┬á ├é┬á ├é┬á ├é
	┬á ├é┬á ├é┬á ├é
	┬á ├é┬á ├é┬á ├é
	┬á ├é┬á ├é┬á ├é
	┬á ├é┬á ├é┬á ├é
	┬á ├é┬á ├é┬á ├é
	┬á ├é┬á ├é┬á ├é
	┬á ├é┬á ├é┬á ├é
	┬á ├é┬á ├é┬á ├é
	┬á ├é┬á ├é┬á ├é
	┬á ├é┬á ├é┬á ├é
	┬á ├é┬á ├é┬á ├é
	┬á ├é┬á ├é┬á ├é
	┬á ├é┬á ├é┬á ├é
	┬á ├é┬á ├é┬á ├é
	┬á ├é┬á ├é┬á
	 ├é┬á ├é┬á ├é┬á ├é┬á ├é┬á ├
	é┬á ├é┬á ├é┬á ├é┬á├é┬á
DTSTART:20200815T190000Z
END:VEVENT
BEGIN:VEVENT
SUMMARY:Drag Race
DTSTAMP:20200717T033729Z
SEQUENCE:0
UID:277-12-9c64beb017c3f22cb518d1e4eb049ee2@badlandsrp.com
ORGANIZER;CN="Shy":noreply@badlandsrp.com
DESCRIPTION:\n	├é┬á ├é┬á ├é
	┬á ├é┬á ├é┬á ├é┬á ├é┬á
	 ├é┬á ├é┬á ├é┬á ├é┬á ├é┬á ├é┬á ├
	é┬á
DTSTART:20200719T210000Z
END:VEVENT
BEGIN:VEVENT
SUMMARY:Wedding of Roland and Jessy Wolf
DTSTAMP:20200701T230037Z
SEQUENCE:0
UID:274-12-9c64beb017c3f22cb518d1e4eb049ee2@badlandsrp.com
ORGANIZER;CN="Shy":noreply@badlandsrp.com
DESCRIPTION:\n	├é┬á ├é┬á ├é
	┬á ├é┬á ├é┬á ├é
	┬á ├é┬á ├é┬á ├é
	┬á ├é┬á ├é┬á ├é
	┬á ├é┬á ├é┬á ├é
	┬á ├é┬á ├é┬á
	 ├é┬á ├é┬á ├é┬á ├é┬á ├é┬á ├
	é┬á ├é┬á ├é┬á ├é┬á├é┬á
DTSTART:20200703T210000Z
END:VEVENT
BEGIN:VEVENT
SUMMARY:Triathlon
DTSTAMP:20200623T155955Z
SEQUENCE:0
UID:268-12-9c64beb017c3f22cb518d1e4eb049ee2@badlandsrp.com
ORGANIZER;CN="Shy":noreply@badlandsrp.com
DESCRIPTION:\n\n	├é┬á ├é┬á ├é┬
	á ├é┬á ├é┬á ├é┬á
	 ├é┬á ├é┬á ├é┬á
	 ├é┬á ├é┬á ├é┬á
	 ├é┬á ├é┬á ├é┬á
	 ├é┬á ├é┬á ├é┬á
	 ├é┬á ├é┬á ├é┬á
	 ├é┬á ├é┬á ├é┬á
	 ├é┬á ├é┬á ├é┬á
	 ├é┬á ├é┬á ├é┬á
	 ├é┬á ├é┬á ├é┬á
	 ├é┬á ├é┬á ├é┬á
	 ├é┬á ├é┬á ├é┬á
	 ├é┬á ├é┬á ├é┬á
	 ├é┬á ├é┬á ├é┬á ├é┬á
	 ├é┬á ├é┬á ├é┬á ├é┬á ├é
	┬á\n\n\n	├é┬á ├é┬á ├é┬á
	 ├é┬á ├é┬á ├é┬á
	 ├é┬á ├é┬á ├é┬á
	 ├é┬á ├é┬á ├é┬á
	 ├é┬á ├é┬á ├é┬á
	 ├é┬á ├é┬á ├é┬á
	 ├é┬á ├é┬á ├é┬á
	 ├é┬á ├é┬á ├é┬á
	 ├é┬á ├é┬á ├é┬á
	 ├é┬á ├é┬á ├é┬á
	 ├é┬á ├é┬á ├é┬á
	 ├é┬á ├é┬á ├é┬á
	 ├é┬á ├é┬á ├é┬á ├é┬á ├é┬á
	 ├é┬á ├é┬á ├é┬á ├é┬á ├é┬á ├é┬á\n
DTSTART:20200628T000000Z
END:VEVENT
BEGIN:VEVENT
SUMMARY:Ladies Night
DTSTAMP:20200619T075836Z
SEQUENCE:0
UID:267-12-9c64beb017c3f22cb518d1e4eb049ee2@badlandsrp.com
ORGANIZER;CN="Shy":noreply@badlandsrp.com
DESCRIPTION:\n	├é┬á ├é┬á ├é
	┬á ├é┬á ├é┬á ├é
	┬á ├é┬á ├é┬á ├é
	┬á ├é┬á ├é┬á ├é
	┬á ├é┬á ├é┬á ├é
	┬á ├é┬á ├é┬á ├é
	┬á ├é┬á ├é┬á ├é
	┬á ├é┬á ├é┬á ├é
	┬á ├é┬á ├é┬á ├é
	┬á ├é┬á ├é┬á ├é
	┬á ├é┬á ├é┬á ├é
	┬á ├é┬á ├é┬á ├é
	┬á ├é┬á ├é┬á ├é
	┬á ├é┬á ├é┬á ├é
	┬á ├é┬á ├é┬á ├é
	┬á ├é┬á ├é┬á ├é
	┬á ├é┬á ├é┬á ├é
	┬á ├é┬á ├é┬á ├é┬á ├é┬á ├é┬á ├é┬á 
	├é┬á ├é┬á ├é┬á ├é┬á
DTSTART:20200621T000000Z
END:VEVENT
BEGIN:VEVENT
SUMMARY:Supercar Sunday
DTSTAMP:20200613T160630Z
SEQUENCE:0
UID:261-12-9c64beb017c3f22cb518d1e4eb049ee2@badlandsrp.com
ORGANIZER;CN="Shy":noreply@badlandsrp.com
DESCRIPTION:\n	Lets cruise!\n
DTSTART:20200614T200000Z
END:VEVENT
BEGIN:VEVENT
SUMMARY:In honor of Jacob Santiago
DTSTAMP:20200605T213311Z
SEQUENCE:0
UID:260-12-9c64beb017c3f22cb518d1e4eb049ee2@badlandsrp.com
ORGANIZER;CN="Shy":noreply@badlandsrp.com
DESCRIPTION:\n	├é┬á ├é┬á ├é
	┬á ├é┬á ├é┬á ├é
	┬á ├é┬á ├é┬á ├é
	┬á ├é┬á ├é┬á ├é
	┬á ├é┬á ├é┬á ├é
	┬á ├é┬á ├é┬á ├é
	┬á ├é┬á ├é┬á ├é
	┬á ├é┬á ├é┬á ├é
	┬á ├é┬á ├é┬á ├é
	┬á ├é┬á ├é┬á ├é
	┬á ├é┬á ├é┬á ├é
	┬á ├é┬á ├é┬á ├é
	┬á ├é┬á ├é┬á ├é┬á ├é┬á
	 ├é┬á ├é┬á ├é┬á ├é┬á ├é┬á ├é┬á ├
	é┬á
DTSTART:20200608T003000Z
END:VEVENT
BEGIN:VEVENT
SUMMARY:Wedding of Roland and Jessy Wolf
DTSTAMP:20200519T200812Z
SEQUENCE:0
UID:257-12-9c64beb017c3f22cb518d1e4eb049ee2@badlandsrp.com
ORGANIZER;CN="Shy":noreply@badlandsrp.com
DESCRIPTION:\n	├é┬á ├é┬á ├é
	┬á ├é┬á ├é┬á ├é
	┬á ├é┬á ├é┬á ├é
	┬á ├é┬á ├é┬á ├é
	┬á ├é┬á ├é┬á ├é
	┬á ├é┬á ├é┬á ├é
	┬á ├é┬á ├é┬á ├é
	┬á ├é┬á ├é┬á ├é
	┬á ├é┬á ├é┬á ├é
	┬á ├é┬á ├é
	┬á ├é┬á ├é┬á ├é┬á ├é┬á ├é┬á ├é┬á
	 ├é┬á ├é┬á ├é┬á ├é┬á 
DTSTART:20200522T210000Z
END:VEVENT
BEGIN:VEVENT
SUMMARY:Funeral of Johnny Rivera
DTSTAMP:20200518T050746Z
SEQUENCE:0
UID:256-12-9c64beb017c3f22cb518d1e4eb049ee2@badlandsrp.com
ORGANIZER;CN="Shy":noreply@badlandsrp.com
DESCRIPTION:\n	├é┬á ├é┬á ├é
	┬á ├é┬á ├é┬á ├é
	┬á ├é┬á ├é┬á ├é
	┬á ├é┬á ├é┬á ├é
	┬á ├é┬á ├é┬á ├é
	┬á ├é┬á ├é┬á ├é
	┬á ├é┬á ├é┬á ├é
	┬á ├é┬á ├é┬á ├é
	┬á ├é┬á ├é┬á ├é
	┬á ├é┬á ├é┬á ├é
	┬á ├é┬á ├é┬á ├é
	┬á ├é┬á ├é┬á ├é
	┬á ├é┬á ├é┬á ├é
	┬á ├é┬á ├é┬á ├é
	┬á ├é┬á ├é┬á ├é
	┬á ├é┬á ├é┬á ├é
	┬á ├é┬á ├é┬á ├é
	┬á ├é┬á ├é┬á
	 ├é┬á ├é┬á ├é┬á ├é┬á ├é┬á 
	├é┬á├é┬á ├é┬á ├é┬á ├é┬á
DTSTART:20200520T003000Z
END:VEVENT
BEGIN:VEVENT
SUMMARY:Vanilla Unicorn: Rave Night
DTSTAMP:20200506T183342Z
SEQUENCE:0
UID:253-12-9c64beb017c3f22cb518d1e4eb049ee2@badlandsrp.com
ORGANIZER;CN="Shy":noreply@badlandsrp.com
DESCRIPTION:\n	├é┬á ├é┬á ├é
	┬á ├é┬á ├é┬á ├é
	┬á ├é┬á ├é┬á ├é
	┬á ├é┬á ├é┬á ├é
	┬á ├é┬á ├é┬á ├é
	┬á ├é┬á ├é┬á ├é
	┬á ├é┬á ├é┬á ├é
	┬á ├é┬á ├é┬á ├é
	┬á ├é┬á ├é┬á ├é
	┬á ├é┬á ├é┬á ├é
	┬á ├é┬á ├é┬á ├é
	┬á ├é┬á ├é┬á ├é
	┬á ├é┬á ├é┬á ├é
	┬á ├é┬á ├é┬á ├é
	┬á ├é┬á ├é┬á ├é┬á ├é┬á ├é┬á ├é┬á 
	├é┬á ├é┬á ├é┬á ├é┬á
DTSTART:20200508T230000Z
END:VEVENT
BEGIN:VEVENT
SUMMARY:Ladies Night
DTSTAMP:20200430T050248Z
SEQUENCE:0
UID:252-12-9c64beb017c3f22cb518d1e4eb049ee2@badlandsrp.com
ORGANIZER;CN="Shy":noreply@badlandsrp.com
DESCRIPTION:\n\n	├é┬á ├é┬á ├é┬
	á ├é┬á ├é┬á ├é┬á
	 ├é┬á ├é┬á ├é┬á
	 ├é┬á ├é┬á ├é┬á
	 ├é┬á ├é┬á ├é┬á
	 ├é┬á ├é┬á ├é┬á
	 ├é┬á ├é┬á ├é┬á
	 ├é┬á ├é┬á ├é┬á
	 ├é┬á ├é┬á ├é┬á
	 ├é┬á ├é┬á ├é┬á
	 ├é┬á ├é┬á ├é┬á
	 ├é┬á ├é┬á ├é┬á
	 ├é┬á ├é┬á ├é┬á
	 ├é┬á ├é┬á ├é┬á
	 ├é┬á ├é┬á ├é┬á
	 ├é┬á ├é┬á ├é┬á
	 ├é┬á ├é┬á ├é┬
	á ├é┬á ├é┬á ├é
	┬á ├é┬á ├é┬á ├
	é┬á├é┬á ├é┬
	á ├é┬á ├é┬á ├é┬á ├é┬á ├é┬á ├é┬á
	 ├é┬á ├é┬á\n\n\n	├é┬á\n\n
DTSTART:20200501T230000Z
END:VEVENT
BEGIN:VEVENT
SUMMARY:90's Night
DTSTAMP:20200426T043855Z
SEQUENCE:0
UID:250-12-9c64beb017c3f22cb518d1e4eb049ee2@badlandsrp.com
ORGANIZER;CN="Shy":noreply@badlandsrp.com
DESCRIPTION:\n	├é┬á ├é┬á ├é
	┬á ├é┬á ├é┬á ├é
	┬á ├é┬á ├é┬á ├é
	┬á ├é┬á ├é┬á ├é
	┬á ├é┬á ├é┬á ├é
	┬á ├é┬á ├é┬á ├é
	┬á ├é┬á ├é┬á ├é
	┬á ├é┬á ├é┬á ├é
	┬á ├é┬á ├é┬á ├é
	┬á ├é┬á ├é┬á ├é
	┬á ├é┬á ├é┬á ├é
	┬á ├é┬á ├é┬á ├é
	┬á ├é┬á ├é┬á
	 ├é┬á ├é┬á ├é┬á ├é┬á ├é┬á ├
	é┬á ├é┬á ├é┬á ├é┬á├é┬á
DTSTART:20200428T230000Z
END:VEVENT
BEGIN:VEVENT
SUMMARY:Birthday Bash
DTSTAMP:20200422T185828Z
SEQUENCE:0
UID:246-12-9c64beb017c3f22cb518d1e4eb049ee2@badlandsrp.com
ORGANIZER;CN="Shy":noreply@badlandsrp.com
DESCRIPTION:\n	├é┬á ├é┬á ├é
	┬á ├é┬á ├é┬á ├é
	┬á ├é┬á ├é┬á ├é
	┬á ├é┬á ├é┬á ├é
	┬á ├é┬á ├é┬á ├é
	┬á ├é┬á ├é┬á ├é
	┬á ├é┬á ├é┬á ├é
	┬á ├é┬á ├é┬á ├é
	┬á ├é┬á ├é┬á ├é
	┬
	á ├é
	┬á ├é┬á ├é┬á
	 ├é┬á ├é┬á ├é┬á ├é┬á ├é┬á ├
	é┬á ├é┬á ├é┬á ├é┬á├é┬á
DTSTART:20200426T010000Z
END:VEVENT
BEGIN:VEVENT
SUMMARY:Los Santos Got Talent
DTSTAMP:20200422T002826Z
SEQUENCE:0
UID:244-12-9c64beb017c3f22cb518d1e4eb049ee2@badlandsrp.com
ORGANIZER;CN="Shy":noreply@badlandsrp.com
DESCRIPTION:\n	├é┬á ├é┬á ├é
	┬á ├é┬á ├é┬á ├é┬á ├é┬
	á ├é┬á ├é┬á ├é┬á ├é┬á ├é┬á
DTSTART:20200426T233000Z
END:VEVENT
BEGIN:VEVENT
SUMMARY:Vanilla Unicorn: Grand Re-opening
DTSTAMP:20200417T022622Z
SEQUENCE:0
UID:243-12-9c64beb017c3f22cb518d1e4eb049ee2@badlandsrp.com
ORGANIZER;CN="Shy":noreply@badlandsrp.com
DESCRIPTION:\n	├é┬á ├é┬á ├é
	┬á ├é┬á ├é┬á ├é
	┬á ├é┬á ├é┬á ├é
	┬á ├é┬á ├é┬á ├é
	┬á ├é┬á ├é┬á ├é
	┬á ├é┬á ├é┬á ├é
	┬á ├é┬á ├é┬á ├é
	┬á ├é┬á ├é┬á ├é
	┬á ├é┬á ├é┬á ├é
	┬á ├é┬á ├é┬á ├é
	┬á ├é┬á ├é┬á ├é
	┬á ├é┬á ├é┬á ├é
	┬á ├é┬á ├é┬
	á ├é┬á ├é┬á ├é┬á ├é┬á ├é┬á ├é┬á
	 ├é┬á ├é┬á ├é┬á ├é┬á
DTSTART:20200418T000000Z
END:VEVENT
BEGIN:VEVENT
SUMMARY:Crawshank Wedding
DTSTAMP:20200409T191100Z
SEQUENCE:0
UID:240-12-9c64beb017c3f22cb518d1e4eb049ee2@badlandsrp.com
ORGANIZER;CN="Shy":noreply@badlandsrp.com
DESCRIPTION:\n	
DTSTART:20200410T220000Z
END:VEVENT
END:VCALENDAR
