BEGIN:VCALENDAR
VERSION:2.0
PRODID:-//InvisionCommunity Events 4.7.24//EN
METHOD:PUBLISH
CALSCALE:GREGORIAN
REFRESH-INTERVAL:PT15M
X-PUBLISHED-TTL:PT15M
X-WR-CALNAME:BCSO Calendar
NAME:BCSO Calendar
BEGIN:VTIMEZONE
TZID:Europe/London
TZURL:http://tzurl.org/zoneinfo/Europe/London
X-LIC-LOCATION:Europe/London
BEGIN:DAYLIGHT
TZOFFSETFROM:+0000
TZOFFSETTO:+0100
TZNAME:BST
DTSTART:20220327T020000Z
RRULE:FREQ=YEARLY;BYMONTH=3;BYDAY=-1SU
END:DAYLIGHT
BEGIN:STANDARD
TZOFFSETFROM:+0100
TZOFFSETTO:+0000
TZNAME:GMT
DTSTART:20221030T020000Z
RRULE:FREQ=YEARLY;BYMONTH=10;BYDAY=-1SU
END:STANDARD
END:VTIMEZONE
BEGIN:VTIMEZONE
TZID:Europe/London
TZURL:http://tzurl.org/zoneinfo/Europe/London
X-LIC-LOCATION:Europe/London
BEGIN:DAYLIGHT
TZOFFSETFROM:+0000
TZOFFSETTO:+0100
TZNAME:BST
DTSTART:20210328T020000Z
RRULE:FREQ=YEARLY;BYMONTH=3;BYDAY=-1SU
END:DAYLIGHT
BEGIN:STANDARD
TZOFFSETFROM:+0100
TZOFFSETTO:+0000
TZNAME:GMT
DTSTART:20211031T020000Z
RRULE:FREQ=YEARLY;BYMONTH=10;BYDAY=-1SU
END:STANDARD
END:VTIMEZONE
BEGIN:VEVENT
SUMMARY:BCSO Supervisors Meeting
DTSTAMP:20210911T132957Z
SEQUENCE:0
UID:341-22-9c64beb017c3f22cb518d1e4eb049ee2@badlandsrp.com
ORGANIZER;CN="tay":noreply@badlandsrp.com
DESCRIPTION:\n	Blaine County Sheriff's Office Supervisors Meeting.\n\n
DTSTART:20220305T000000Z
DTEND:20220305T020000Z
RRULE:FREQ=WEEKLY;INTERVAL=2;BYDAY=FR
END:VEVENT
BEGIN:VEVENT
SUMMARY:BCSO Transfer Applications Open
DTSTAMP:20210828T185949Z
SEQUENCE:0
UID:338-22-9c64beb017c3f22cb518d1e4eb049ee2@badlandsrp.com
ORGANIZER;CN="tay":noreply@badlandsrp.com
DESCRIPTION:\n	\n		\n			\n				BCSO will be accepting transfer applicatio
	ns from Officers of the LSPD.\n			\n		\n	\n\n\n\n	\n		\n			\n				├é┬
	á\n			\n		\n	\n\n
DTSTART;VALUE=DATE:20211127
RRULE:FREQ=WEEKLY;INTERVAL=12;BYDAY=SA
END:VEVENT
BEGIN:VEVENT
SUMMARY:BCSO Interviews
DTSTAMP:20210804T010312Z
SEQUENCE:0
UID:333-22-9c64beb017c3f22cb518d1e4eb049ee2@badlandsrp.com
ORGANIZER;CN="Tom":noreply@badlandsrp.com
DESCRIPTION:\n\n	Interviews will be held at the Blaine County Sheriff's 
	Office. Please enter the lobby and wait for your name to be called.├
	é┬áMessage any BCSO LT+ on discord the day prior in order to confirm y
	our attendance.\n\n
DTSTART:20210809T230000Z
DTEND:20210810T000000Z
RRULE:FREQ=WEEKLY;INTERVAL=1;BYDAY=MO
END:VEVENT
BEGIN:VEVENT
SUMMARY:BCSO Interviews
DTSTAMP:20210617T220421Z
SEQUENCE:0
UID:328-22-9c64beb017c3f22cb518d1e4eb049ee2@badlandsrp.com
ORGANIZER;CN="Tom":noreply@badlandsrp.com
DESCRIPTION:\n\n	Interviews will be held at the Blaine County Sheriff's 
	Office. Please enter the lobby and wait for your name to be called.├
	é┬áMessage any BCSO LT+ on discord the day prior in order to confirm y
	our attendance.\n\n
DTSTART:20210618T233000Z
DTEND:20210619T003000Z
RRULE:FREQ=WEEKLY;INTERVAL=1;BYDAY=TH
END:VEVENT
END:VCALENDAR
