BEGIN:VCALENDAR
VERSION:2.0
PRODID:-//InvisionCommunity Events 4.7.24//EN
METHOD:PUBLISH
CALSCALE:GREGORIAN
REFRESH-INTERVAL:PT15M
X-PUBLISHED-TTL:PT15M
X-WR-CALNAME:Meets and Events
NAME:Meets and Events
BEGIN:VTIMEZONE
TZID:Europe/London
TZURL:http://tzurl.org/zoneinfo/Europe/London
X-LIC-LOCATION:Europe/London
BEGIN:DAYLIGHT
TZOFFSETFROM:+0000
TZOFFSETTO:+0100
TZNAME:BST
DTSTART:20210328T020000Z
RRULE:FREQ=YEARLY;BYMONTH=3;BYDAY=-1SU
END:DAYLIGHT
BEGIN:STANDARD
TZOFFSETFROM:+0100
TZOFFSETTO:+0000
TZNAME:GMT
DTSTART:20211031T020000Z
RRULE:FREQ=YEARLY;BYMONTH=10;BYDAY=-1SU
END:STANDARD
END:VTIMEZONE
BEGIN:VEVENT
SUMMARY:LS Coastal
DTSTAMP:20210829T194040Z
SEQUENCE:0
UID:339-24-9c64beb017c3f22cb518d1e4eb049ee2@badlandsrp.com
ORGANIZER;CN="NHDott":noreply@badlandsrp.com
DESCRIPTION:\n	\n
DTSTART:20210905T011500Z
END:VEVENT
BEGIN:VEVENT
SUMMARY:Midnight Club OPEN EVENT
DTSTAMP:20210810T022332Z
SEQUENCE:0
UID:334-24-9c64beb017c3f22cb518d1e4eb049ee2@badlandsrp.com
ORGANIZER;CN="NHDott":noreply@badlandsrp.com
DESCRIPTION:\n\n	To introduce ourselves we are hosting an Open even at t
	he 2 story car park on Meteor St.├é┬á\n\n\n\n	Any Car/Bike\n\n\n\n	F
	ood\, Vibes and a whole lot more!\n\n\n\n	VIP and Non Premium Parking (Fee
	s apply)\n\n\n\n	├é┬á\n\n
DTSTART:20210814T233000Z
DTEND:20210815T003000Z
END:VEVENT
END:VCALENDAR
