BEGIN:VCALENDAR
VERSION:2.0
PRODID:-//InvisionCommunity Events 4.7.24//EN
METHOD:PUBLISH
CALSCALE:GREGORIAN
REFRESH-INTERVAL:PT15M
X-PUBLISHED-TTL:PT15M
X-WR-CALNAME:DOC Calendar
NAME:DOC Calendar
BEGIN:VTIMEZONE
TZID:Europe/London
TZURL:http://tzurl.org/zoneinfo/Europe/London
X-LIC-LOCATION:Europe/London
BEGIN:DAYLIGHT
TZOFFSETFROM:+0000
TZOFFSETTO:+0100
TZNAME:BST
DTSTART:20220327T020000Z
RRULE:FREQ=YEARLY;BYMONTH=3;BYDAY=-1SU
END:DAYLIGHT
BEGIN:STANDARD
TZOFFSETFROM:+0100
TZOFFSETTO:+0000
TZNAME:GMT
DTSTART:20221030T020000Z
RRULE:FREQ=YEARLY;BYMONTH=10;BYDAY=-1SU
END:STANDARD
END:VTIMEZONE
BEGIN:VEVENT
SUMMARY:DOC Interviews
DTSTAMP:20220715T150927Z
SEQUENCE:0
UID:361-26-9c64beb017c3f22cb518d1e4eb049ee2@badlandsrp.com
ORGANIZER;CN="floof":noreply@badlandsrp.com
DESCRIPTION:\n	Interviews will be held at the Bolingbroke State Penitent
	iary. Please enter the lobby and wait for an interviewer.┬áMessage a DO
	C Chief Prison Officer+ on discord the day prior in order to confirm your 
	interview.\n\n\n\n	Join \"Waiting Room DOC\" on discord before to get your
	 interview done.\n\n
DTSTART:20220713T230000Z
RRULE:FREQ=WEEKLY;INTERVAL=1;BYDAY=WE
END:VEVENT
BEGIN:VEVENT
SUMMARY:DOC Supervisor Meeting
DTSTAMP:20221126T065410Z
SEQUENCE:0
UID:370-26-9c64beb017c3f22cb518d1e4eb049ee2@badlandsrp.com
ORGANIZER;CN="floof":noreply@badlandsrp.com
DESCRIPTION:\n	DOC Supervisor Meeting\n\n
DTSTART:20221120T180000Z
RRULE:FREQ=WEEKLY;INTERVAL=2;BYDAY=SU
END:VEVENT
BEGIN:VEVENT
SUMMARY:DOC ALL HANDS ON DECK
DTSTAMP:20220715T175148Z
SEQUENCE:0
UID:362-26-9c64beb017c3f22cb518d1e4eb049ee2@badlandsrp.com
ORGANIZER;CN="floof":noreply@badlandsrp.com
DESCRIPTION:\n	All DOC training exercise. Check Command Updates for more
	 info\n\n
DTSTART:20220717T230000Z
END:VEVENT
END:VCALENDAR
