BEGIN:VCALENDAR
VERSION:2.0
PRODID:-//InvisionCommunity Events 4.7.24//EN
METHOD:PUBLISH
CALSCALE:GREGORIAN
REFRESH-INTERVAL:PT15M
X-PUBLISHED-TTL:PT15M
X-WR-CALNAME:Events
NAME:Events
BEGIN:VTIMEZONE
TZID:Europe/London
TZURL:http://tzurl.org/zoneinfo/Europe/London
X-LIC-LOCATION:Europe/London
BEGIN:DAYLIGHT
TZOFFSETFROM:+0000
TZOFFSETTO:+0100
TZNAME:BST
DTSTART:20220327T020000Z
RRULE:FREQ=YEARLY;BYMONTH=3;BYDAY=-1SU
END:DAYLIGHT
BEGIN:STANDARD
TZOFFSETFROM:+0100
TZOFFSETTO:+0000
TZNAME:GMT
DTSTART:20221030T020000Z
RRULE:FREQ=YEARLY;BYMONTH=10;BYDAY=-1SU
END:STANDARD
END:VTIMEZONE
BEGIN:VEVENT
SUMMARY:North Yankton Treasure Hunt
DTSTAMP:20221216T191327Z
SEQUENCE:0
UID:372-27-9c64beb017c3f22cb518d1e4eb049ee2@badlandsrp.com
ORGANIZER;CN="XavierTheSniper":noreply@badlandsrp.com
DESCRIPTION:\n		Date: Thursday Dec 29th 6 PM EST\n	\n	\n		Location: The 
	large Christmas tree located at Lawtown Junction in North Yankton\n	\n	\n	
		Catering: Homebrew &amp\; Yellow Jack\n	\n	\n		Entertainment: Death Jam R
	ecords: DJ MarshallMello\n	\n	\n		Notes to be found: 7\n	\n	\n		Treasure H
	unt Prize: $50k\n	\n	\n		Raffle:\n		\n				Car: Cypher WideBody with Full P
	erformance Package\n				\n						Ticket Cost: $3k Unlimited Entries\n					\
	n				\n		\n\n	┬á\n\n
DTSTART:20221229T230000Z
DTEND:20221230T010000Z
END:VEVENT
END:VCALENDAR
