BEGIN:VCALENDAR
VERSION:2.0
PRODID:-//InvisionCommunity Events 4.7.24//EN
METHOD:PUBLISH
CALSCALE:GREGORIAN
REFRESH-INTERVAL:PT15M
X-PUBLISHED-TTL:PT15M
X-WR-CALNAME:Events
NAME:Events
BEGIN:VTIMEZONE
TZID:Europe/London
TZURL:http://tzurl.org/zoneinfo/Europe/London
X-LIC-LOCATION:Europe/London
BEGIN:DAYLIGHT
TZOFFSETFROM:+0000
TZOFFSETTO:+0100
TZNAME:BST
DTSTART:20240331T020000Z
RRULE:FREQ=YEARLY;BYMONTH=3;BYDAY=-1SU
END:DAYLIGHT
BEGIN:STANDARD
TZOFFSETFROM:+0100
TZOFFSETTO:+0000
TZNAME:GMT
DTSTART:20241027T020000Z
RRULE:FREQ=YEARLY;BYMONTH=10;BYDAY=-1SU
END:STANDARD
END:VTIMEZONE
BEGIN:VEVENT
SUMMARY:Just Truckin - Meet N Greet
DTSTAMP:20240910T134723Z
SEQUENCE:0
UID:384-28-9c64beb017c3f22cb518d1e4eb049ee2@badlandsrp.com
ORGANIZER;CN="J Rambo":noreply@badlandsrp.com
DESCRIPTION:\n	Just Truckin LLC is hosting a meet n greet located at the
	 down bad apartments.\n\n\n\n	Come stop by and ask about this newly upcomi
	ng nonprofit company who will be hiring respectable friendly faces.\n\n\n\
	n	The meet n greet will start at 1p central time in the back of the parkin
	g lot. (look for the trucks)\n\n\n\n	Food and music will be provided while
	 supplies last.\n\n\n\n	\n\n
DTSTART;VALUE=DATE:20240915
END:VEVENT
END:VCALENDAR
